BEGIN:VCALENDAR
VERSION:2.0
PRODID:-//wp-events-plugin.com//7.2.3.1//EN
TZID:America/Toronto
X-WR-TIMEZONE:America/Toronto
BEGIN:VEVENT
UID:841@swosda.ca
DTSTART;TZID=America/Toronto:20260428T183000
DTEND;TZID=America/Toronto:20260428T200000
DTSTAMP:20260313T201616Z
URL:https://swosda.ca/events/year-end-pot-luck-dance-swinging-duos/
SUMMARY:Year End Pot Luck Dance - Swinging Duos
DESCRIPTION:Year-end Pot-Luck &amp\; Dance\nDinner at 6:30 pm\nSee Flyer fo
 r details\n[embeddoc url="https://swosda.ca/wp-content/uploads/2026/03/26-
 Closing-April-28.pdf" download="all" viewer="google"]
CATEGORIES:Square Dancing
LOCATION:St. John Evangelist Anglican church\, 34 Head Street North\, Strat
 hroy\, Ontario\, N7G 2G7\, Canada
GEO:42.958448;-81.620419
X-APPLE-STRUCTURED-LOCATION;VALUE=URI;X-ADDRESS=34 Head Street North\, Stra
 throy\, Ontario\, N7G 2G7\, Canada;X-APPLE-RADIUS=100;X-TITLE=St. John Eva
 ngelist Anglican church:geo:42.958448,-81.620419
END:VEVENT
BEGIN:VTIMEZONE
TZID:America/Toronto
X-LIC-LOCATION:America/Toronto
BEGIN:DAYLIGHT
DTSTART:20260308T030000
TZOFFSETFROM:-0500
TZOFFSETTO:-0400
TZNAME:EDT
END:DAYLIGHT
END:VTIMEZONE
END:VCALENDAR