BEGIN:VCALENDAR
VERSION:2.0
PRODID:-//wp-events-plugin.com//7.2.3.1//EN
TZID:America/Toronto
X-WR-TIMEZONE:America/Toronto
BEGIN:VEVENT
UID:803@swosda.ca
DTSTART;TZID=America/Toronto:20260425T130000
DTEND;TZID=America/Toronto:20260425T163000
DTSTAMP:20260329T173842Z
URL:https://swosda.ca/events/swosda-square-dance/
SUMMARY:SWOSDA Square Dance hosted by Sound Steppers
DESCRIPTION:An afternoon of Square Dancing with Rounds from 1pm till 4:30 p
 m\, followed by the AGM at 4:30 pm\n\nAfternoon Program\nAGM - Vote on Con
 stitution Updates\nConstitution Approved Jan 24\, 2026\nExecutive Position
 s Descriptions\n[embeddoc url="https://swosda.ca/wp-content/uploads/2025/0
 7/26-04-25-SWOSDA-Flyer-Owen-Sound.pdf" download="all" viewer="google"]
CATEGORIES:Square Dancing,SWOSDA
LOCATION:First United Church\, 435 21st Street\, Owen Sound\, Ontario\, N4K
  4E5\, Canada
GEO:44.582568;-80.949988
X-APPLE-STRUCTURED-LOCATION;VALUE=URI;X-ADDRESS=435 21st Street\, Owen Soun
 d\, Ontario\, N4K 4E5\, Canada;X-APPLE-RADIUS=100;X-TITLE=First United Chu
 rch:geo:44.582568,-80.949988
END:VEVENT
BEGIN:VTIMEZONE
TZID:America/Toronto
X-LIC-LOCATION:America/Toronto
BEGIN:DAYLIGHT
DTSTART:20260308T030000
TZOFFSETFROM:-0500
TZOFFSETTO:-0400
TZNAME:EDT
END:DAYLIGHT
END:VTIMEZONE
END:VCALENDAR