BEGIN:VCALENDAR
VERSION:2.0
PRODID:-//wp-events-plugin.com//7.2.3.1//EN
TZID:America/Toronto
X-WR-TIMEZONE:America/Toronto
BEGIN:VEVENT
UID:837@swosda.ca
DTSTART;TZID=America/Toronto:20270227T130000
DTEND;TZID=America/Toronto:20270227T170000
DTSTAMP:20260329T181502Z
URL:https://swosda.ca/events/swosda-square-dance-hosted-by-thames-valley/
SUMMARY:SWOSDA Square Dance hosted by Thames Valley Dance Club
DESCRIPTION:An afternoon of Square Dancing with Rounds\nMore details to fol
 low - SAVE THE DATE
CATEGORIES:Square Dancing,SWOSDA
LOCATION:Maranatha Christian Reform Chirch\, 735 Frontenac Cresc.\, Woodsto
 ck\, ON\, N4V 0B1\, Canada
GEO:43.109668;-80.750109
X-APPLE-STRUCTURED-LOCATION;VALUE=URI;X-ADDRESS=735 Frontenac Cresc.\, Wood
 stock\, ON\, N4V 0B1\, Canada;X-APPLE-RADIUS=100;X-TITLE=Maranatha Christi
 an Reform Chirch:geo:43.109668,-80.750109
END:VEVENT
BEGIN:VTIMEZONE
TZID:America/Toronto
X-LIC-LOCATION:America/Toronto
BEGIN:STANDARD
DTSTART:20261101T010000
TZOFFSETFROM:-0400
TZOFFSETTO:-0500
TZNAME:EST
END:STANDARD
END:VTIMEZONE
END:VCALENDAR