BEGIN:VCALENDAR
VERSION:2.0
PRODID:-//wp-events-plugin.com//7.2.3.1//EN
TZID:America/Toronto
X-WR-TIMEZONE:America/Toronto
BEGIN:VEVENT
UID:836@swosda.ca
DTSTART;TZID=America/Toronto:20270116T130000
DTEND;TZID=America/Toronto:20270116T170000
DTSTAMP:20260329T181416Z
URL:https://swosda.ca/events/swosda-square-dance-hosted-by-guys-n-dolls/
SUMMARY:SWOSDA Square Dance hosted by Guys 'n' Dolls
DESCRIPTION:An afternoon of Square Dancing with Rounds\nMore details to fol
 low - SAVE THE DATE\n\nNOTE this is the 3rd Saturday
CATEGORIES:Square Dancing,SWOSDA
LOCATION:Glencairn Church\, 725 Erinbrook Drive\, Kitchener\, Ontario\, N2E
  3E3\, Canada
GEO:43.41237;-80.490788
X-APPLE-STRUCTURED-LOCATION;VALUE=URI;X-ADDRESS=725 Erinbrook Drive\, Kitch
 ener\, Ontario\, N2E 3E3\, Canada;X-APPLE-RADIUS=100;X-TITLE=Glencairn Chu
 rch:geo:43.41237,-80.490788
END:VEVENT
BEGIN:VTIMEZONE
TZID:America/Toronto
X-LIC-LOCATION:America/Toronto
BEGIN:STANDARD
DTSTART:20261101T010000
TZOFFSETFROM:-0400
TZOFFSETTO:-0500
TZNAME:EST
END:STANDARD
END:VTIMEZONE
END:VCALENDAR