BEGIN:VCALENDAR
VERSION:2.0
PRODID:-//wp-events-plugin.com//7.2.3.1//EN
TZID:America/Toronto
X-WR-TIMEZONE:America/Toronto
BEGIN:VEVENT
UID:838@swosda.ca
DTSTART;TZID=America/Toronto:20270327T130000
DTEND;TZID=America/Toronto:20270327T170000
DTSTAMP:20260329T181556Z
URL:https://swosda.ca/events/swosda-square-dance-hosted-by-denim-n-lace-2/
SUMMARY:SWOSDA Square Dance hosted by Denim 'n' Lace
DESCRIPTION:An afternoon of Square Dancing with Rounds\nMore details to fol
 low - SAVE THE DATE
CATEGORIES:Square Dancing,SWOSDA
LOCATION:Flesherton Kinplex Hall\, 102 Highland Drive\, Flesherton\, Ontari
 o\, N0C 1E0\, Canada
GEO:44.259742;-80.544573
X-APPLE-STRUCTURED-LOCATION;VALUE=URI;X-ADDRESS=102 Highland Drive\, Fleshe
 rton\, Ontario\, N0C 1E0\, Canada;X-APPLE-RADIUS=100;X-TITLE=Flesherton Ki
 nplex Hall:geo:44.259742,-80.544573
END:VEVENT
BEGIN:VTIMEZONE
TZID:America/Toronto
X-LIC-LOCATION:America/Toronto
BEGIN:DAYLIGHT
DTSTART:20270314T030000
TZOFFSETFROM:-0500
TZOFFSETTO:-0400
TZNAME:EDT
END:DAYLIGHT
END:VTIMEZONE
END:VCALENDAR