BEGIN:VCALENDAR
VERSION:2.0
PRODID:-//wp-events-plugin.com//7.2.3.1//EN
TZID:America/Toronto
X-WR-TIMEZONE:America/Toronto
BEGIN:VEVENT
UID:849@swosda.ca
DTSTART;TZID=America/Toronto:20260926T140000
DTEND;TZID=America/Toronto:20260926T163000
DTSTAMP:20260421T180616Z
URL:https://swosda.ca/events/swosda-round-dance-party-hosted-by-shadowligh
 t/
SUMMARY:SWOSDA Round Dance Party hosted by ShadowLight
DESCRIPTION:An afternoon of Phase 2\, 3\, 4 Round Dancing\nSave the Date\n[
 embeddoc url="https://swosda.ca/wp-content/uploads/2026/04/September-26-20
 26-flyer.pdf" download="all" viewer="google"]
CATEGORIES:Round Dancing,SWOSDA
LOCATION:King Street Baptist Church\, 361 King Street\, Cabridge\, Ontario\
 , N3H 3M7\, Canada
GEO:43.398135;-80.362464
X-APPLE-STRUCTURED-LOCATION;VALUE=URI;X-ADDRESS=361 King Street\, Cabridge\
 , Ontario\, N3H 3M7\, Canada;X-APPLE-RADIUS=100;X-TITLE=King Street Baptis
 t Church:geo:43.398135,-80.362464
END:VEVENT
BEGIN:VTIMEZONE
TZID:America/Toronto
X-LIC-LOCATION:America/Toronto
BEGIN:DAYLIGHT
DTSTART:20260308T030000
TZOFFSETFROM:-0500
TZOFFSETTO:-0400
TZNAME:EDT
END:DAYLIGHT
END:VTIMEZONE
END:VCALENDAR