BEGIN:VCALENDAR
VERSION:2.0
PRODID:-//wp-events-plugin.com//7.2.3.1//EN
TZID:America/Toronto
X-WR-TIMEZONE:America/Toronto
BEGIN:VEVENT
UID:804@swosda.ca
DTSTART;TZID=America/Toronto:20260523T140000
DTEND;TZID=America/Toronto:20260523T163000
DTSTAMP:20260421T175946Z
URL:https://swosda.ca/events/swosda-round-dance-hosted-by-rhythm-rounds/
SUMMARY:SWOSDA Round Dance hosted by Rhythm Rounds
DESCRIPTION:An afternoon of Phase 2\,3\,4 Round Dancing in London\nAfternoo
 n Program\n[embeddoc url="https://swosda.ca/wp-content/uploads/2025/07/May
 -23-2026-RD-Flyer.pdf" download="all" viewer="google"]
CATEGORIES:Round Dancing,SWOSDA
LOCATION:Richards Memorial United Church\, 360 Edgeworth Avenue\, London\, 
 Ontario\, N5W 5C4\, Canada
GEO:43.002438;-81.17574
X-APPLE-STRUCTURED-LOCATION;VALUE=URI;X-ADDRESS=360 Edgeworth Avenue\, Lond
 on\, Ontario\, N5W 5C4\, Canada;X-APPLE-RADIUS=100;X-TITLE=Richards Memori
 al United Church:geo:43.002438,-81.17574
END:VEVENT
BEGIN:VTIMEZONE
TZID:America/Toronto
X-LIC-LOCATION:America/Toronto
BEGIN:DAYLIGHT
DTSTART:20260308T030000
TZOFFSETFROM:-0500
TZOFFSETTO:-0400
TZNAME:EDT
END:DAYLIGHT
END:VTIMEZONE
END:VCALENDAR