BEGIN:VCALENDAR
VERSION:2.0
PRODID:-//wp-events-plugin.com//7.2.3.1//EN
TZID:America/Toronto
X-WR-TIMEZONE:America/Toronto
BEGIN:VEVENT
UID:839@swosda.ca
DTSTART;TZID=America/Toronto:20270424T130000
DTEND;TZID=America/Toronto:20270424T170000
DTSTAMP:20260329T181640Z
URL:https://swosda.ca/events/swosda-monthly-dance-hosted-by-country-square
 s/
SUMMARY:SWOSDA Monthly Dance hosted by Country Squares
DESCRIPTION:Come join us for an afternoon of Square &amp\; Round Dancing\nS
 AVE the date\n\nAGM Meeting
CATEGORIES:Square Dancing,SWOSDA
LOCATION:Brodhagen Community Centre\, 6708 Perth Line 44\, West Perth\, Ont
 ario\, N0K 1B0\, Canada
GEO:43.556006;-81.200052
X-APPLE-STRUCTURED-LOCATION;VALUE=URI;X-ADDRESS=6708 Perth Line 44\, West P
 erth\, Ontario\, N0K 1B0\, Canada;X-APPLE-RADIUS=100;X-TITLE=Brodhagen Com
 munity Centre:geo:43.556006,-81.200052
END:VEVENT
BEGIN:VTIMEZONE
TZID:America/Toronto
X-LIC-LOCATION:America/Toronto
BEGIN:DAYLIGHT
DTSTART:20270314T030000
TZOFFSETFROM:-0500
TZOFFSETTO:-0400
TZNAME:EDT
END:DAYLIGHT
END:VTIMEZONE
END:VCALENDAR