BEGIN:VCALENDAR
VERSION:2.0
PRODID:-//wp-events-plugin.com//7.2.3.1//EN
TZID:America/Toronto
X-WR-TIMEZONE:America/Toronto
BEGIN:VEVENT
UID:850@swosda.ca
DTSTART;TZID=America/Toronto:20260530T130000
DTEND;TZID=America/Toronto:20260530T153000
DTSTAMP:20260421T182354Z
URL:https://swosda.ca/events/plus-8-blast-new-plus-calls-instruction/
SUMMARY:PLUS 8 Blast - New Plus Calls - Instruction - Woodstock
DESCRIPTION:You may have heard of the NEW Square Dance Calls being moved Le
 vels\nNow is you time to get exposed &amp\; learn those new calls\nPre-Reg
 istration Required\n[embeddoc url="https://swosda.ca/wp-content/uploads/20
 26/04/2026-05-30-PLUS-8-Blast.pdf" download="all" viewer="google"]
CATEGORIES:Instruction,Square Dancing
END:VEVENT
BEGIN:VTIMEZONE
TZID:America/Toronto
X-LIC-LOCATION:America/Toronto
BEGIN:DAYLIGHT
DTSTART:20260308T030000
TZOFFSETFROM:-0500
TZOFFSETTO:-0400
TZNAME:EDT
END:DAYLIGHT
END:VTIMEZONE
END:VCALENDAR