BEGIN:VCALENDAR
VERSION:2.0
PRODID:-//wp-events-plugin.com//7.2.3.1//EN
TZID:America/Toronto
X-WR-TIMEZONE:America/Toronto
BEGIN:VEVENT
UID:842@swosda.ca
DTSTART;TZID=America/Toronto:20260425T190000
DTEND;TZID=America/Toronto:20260425T220000
DTSTAMP:20260316T151150Z
URL:https://swosda.ca/events/olde-tyme-square-dance/
SUMMARY:Olde Tyme Square Dance
DESCRIPTION:See Flyer for details\n[embeddoc url="https://swosda.ca/wp-cont
 ent/uploads/2026/03/26-COTSDCA-April-25.pdf" download="all" viewer="google
 "]
CATEGORIES:Olde Tyme,Square Dancing
LOCATION:Duff's Presbyterian Church\, 319 Brock Road South\, Puslinch\, Ont
 ario\, Canada
GEO:43.455382;-80.128395
X-APPLE-STRUCTURED-LOCATION;VALUE=URI;X-ADDRESS=319 Brock Road South\, Pusl
 inch\, Ontario\, Canada;X-APPLE-RADIUS=100;X-TITLE=Duff's Presbyterian Chu
 rch:geo:43.455382,-80.128395
END:VEVENT
BEGIN:VTIMEZONE
TZID:America/Toronto
X-LIC-LOCATION:America/Toronto
BEGIN:DAYLIGHT
DTSTART:20260308T030000
TZOFFSETFROM:-0500
TZOFFSETTO:-0400
TZNAME:EDT
END:DAYLIGHT
END:VTIMEZONE
END:VCALENDAR