BEGIN:VCALENDAR
VERSION:2.0
PRODID:-//wp-events-plugin.com//7.2.3.1//EN
TZID:America/Toronto
X-WR-TIMEZONE:America/Toronto
BEGIN:VEVENT
UID:830@swosda.ca
DTSTART;TZID=America/Toronto:20260502T140000
DTEND;TZID=America/Toronto:20260502T163000
DTSTAMP:20260421T182829Z
URL:https://swosda.ca/events/don-moger-celebrates-50-years-calling/
SUMMARY:Don Moger Celebrates 50 years Calling - Cornwall\, ON
DESCRIPTION:Celebrate Don Moger Calling for 50 years\nSee Flyer for details
 \n[embeddoc url="https://swosda.ca/wp-content/uploads/2026/01/26-may-2-Don
 -Moger.pdf" download="all" viewer="google"]
CATEGORIES:Square Dancing
END:VEVENT
BEGIN:VTIMEZONE
TZID:America/Toronto
X-LIC-LOCATION:America/Toronto
BEGIN:DAYLIGHT
DTSTART:20260308T030000
TZOFFSETFROM:-0500
TZOFFSETTO:-0400
TZNAME:EDT
END:DAYLIGHT
END:VTIMEZONE
END:VCALENDAR