BEGIN:VCALENDAR
VERSION:2.0
PRODID:-//wp-events-plugin.com//7.2.3.1//EN
TZID:America/Toronto
X-WR-TIMEZONE:America/Toronto
BEGIN:VEVENT
UID:844@swosda.ca
DTSTART;TZID=America/Toronto:20260710T000000
DTEND;TZID=America/Toronto:20260711T000000
DTSTAMP:20260325T190030Z
URL:https://swosda.ca/events/blyth-camp-dance-weekend/
SUMMARY:Blyth Camp & Dance Weekend
DESCRIPTION:See FLYER for details\n[embeddoc url="https://swosda.ca/wp-cont
 ent/uploads/2026/03/26-Blyth-July-camp-flier.pdf" download="all" viewer="g
 oogle"]
CATEGORIES:Round Dancing,Square Dancing,Weekend Camping
LOCATION:Blyth & District Community Centre\, 377 Gypsy Lane\, Blyth\, Ontar
 io\, Canada
GEO:43.736304;-81.43201
X-APPLE-STRUCTURED-LOCATION;VALUE=URI;X-ADDRESS=377 Gypsy Lane\, Blyth\, On
 tario\, Canada;X-APPLE-RADIUS=100;X-TITLE=Blyth & District Community Centr
 e:geo:43.736304,-81.43201
END:VEVENT
BEGIN:VTIMEZONE
TZID:America/Toronto
X-LIC-LOCATION:America/Toronto
BEGIN:DAYLIGHT
DTSTART:20260308T030000
TZOFFSETFROM:-0500
TZOFFSETTO:-0400
TZNAME:EDT
END:DAYLIGHT
END:VTIMEZONE
END:VCALENDAR