BEGIN:VCALENDAR
VERSION:2.0
PRODID:-//wp-events-plugin.com//7.2.3.1//EN
TZID:America/Toronto
X-WR-TIMEZONE:America/Toronto
BEGIN:VEVENT
UID:817@swosda.ca
DTSTART;TZID=America/Toronto:20260701T000000
DTEND;TZID=America/Toronto:20260705T000000
DTSTAMP:20251012T145853Z
URL:https://swosda.ca/events/43rd-iagsdc-convention-montreal/
SUMMARY:43rd  IAGSDC Convention - Montreal
DESCRIPTION:Montreal Mix - 43rd Annual IAGSDC International Square Dance Co
 nvention\n\nJuly 1 - 5\, 2026\n\nLe Centre Sheraton Montreal Hotel\n\nDon'
 t miss this fabulous convention. Everyone welcome! Great callers\, fast-pa
 ced dancing\, brunch and banquet included\, and much\, much more. See webs
 ite for information.\n\nhttps://www.montrealmix2026.com/
CATEGORIES:Conventions,Instruction,Round Dancing,Square Dancing
LOCATION:Le Centre Sheraton\, 1201 Renee-Levesque Blvd. W.\, Montreal\, Que
 bec\, Canada
GEO:45.49788;-73.571404
X-APPLE-STRUCTURED-LOCATION;VALUE=URI;X-ADDRESS=1201 Renee-Levesque Blvd. W
 .\, Montreal\, Quebec\, Canada;X-APPLE-RADIUS=100;X-TITLE=Le Centre Sherat
 on:geo:45.49788,-73.571404
END:VEVENT
BEGIN:VTIMEZONE
TZID:America/Toronto
X-LIC-LOCATION:America/Toronto
BEGIN:DAYLIGHT
DTSTART:20260308T030000
TZOFFSETFROM:-0500
TZOFFSETTO:-0400
TZNAME:EDT
END:DAYLIGHT
END:VTIMEZONE
END:VCALENDAR