BEGIN:VCALENDAR
VERSION:2.0
PRODID:-//wp-events-plugin.com//7.2.3.1//EN
TZID:America/Toronto
X-WR-TIMEZONE:America/Toronto
BEGIN:VEVENT
UID:784@swosda.ca
DTSTART;TZID=America/Toronto;VALUE=DATE:20260715
DTEND;TZID=America/Toronto;VALUE=DATE:20260720
DTSTAMP:20250918T205341Z
URL:https://swosda.ca/events/24th-canadian-national-convention/
SUMMARY:24th Canadian National Convention
DESCRIPTION:Plan to attend the 24th Canadian National convention in Pentict
 on\, BC\n\nSee WEBSITE for more Information and details
CATEGORIES:Clogging,Conventions,Round Dancing,Square Dancing
LOCATION:Penticton Trade and Convention Center\, 273 Power Street\, Pentict
 on\, British Columbia\, V2A 7K9\, Canada
GEO:49.496495;-119.605737
X-APPLE-STRUCTURED-LOCATION;VALUE=URI;X-ADDRESS=273 Power Street\, Penticto
 n\, British Columbia\, V2A 7K9\, Canada;X-APPLE-RADIUS=100;X-TITLE=Pentict
 on Trade and Convention Center:geo:49.496495,-119.605737
END:VEVENT
BEGIN:VTIMEZONE
TZID:America/Toronto
X-LIC-LOCATION:America/Toronto
BEGIN:DAYLIGHT
DTSTART:20260308T030000
TZOFFSETFROM:-0500
TZOFFSETTO:-0400
TZNAME:EDT
END:DAYLIGHT
END:VTIMEZONE
END:VCALENDAR